BEGIN:VCALENDAR
VERSION:2.0
PRODID:Marketingcollege.com
METHOD:REQUEST
BEGIN:VEVENT
DTSTART:20260717T110000Z
DTEND:20260717T120000Z
SUMMARY:Managing Upwards: Working Effectively with Senior Stakeholders Marketing often involves working with senior colleagues who have different priorities and expectations. 
LOCATION:Online
DESCRIPTION:Career progression requires more than technical skills. This webinar helps marketing executives understand how to develop capability\, visibility\, and professional confidence to take the next step in their career. \nhttps://www.marketingcollege.com/events/This%20webinar%20helps%20you%20communicate%20clearly,%20manage%20expectations,%20and%20build%20productive%20working%20relationships%20upwards.
URL;VALUE=URI:https://www.marketingcollege.com/events/This%20webinar%20helps%20you%20communicate%20clearly\,%20manage%20expectations\,%20and%20build%20productive%20working%20relationships%20upwards.
UID:69eca5c4850ac
SEQUENCE:0
DTSTAMP:20260425T113012Z
END:VEVENT
END:VCALENDAR
