BEGIN:VCALENDAR
VERSION:2.0
PRODID:Marketingcollege.com
METHOD:REQUEST
BEGIN:VEVENT
DTSTART:20260821T110000Z
DTEND:20260821T120000Z
SUMMARY:Confidence in Decision-Making Under Uncertainty Marketing decisions are often made without complete information. 
LOCATION:Online
DESCRIPTION:Career progression requires more than technical skills. This webinar helps marketing executives understand how to develop capability\, visibility\, and professional confidence to take the next step in their career. \nhttps://www.marketingcollege.com/events/This%20webinar%20helps%20you%20build%20confidence%20in%20making%20sound%20decisions%20using%20judgement,%20experience,%20and%20available%20data.
URL;VALUE=URI:https://www.marketingcollege.com/events/This%20webinar%20helps%20you%20build%20confidence%20in%20making%20sound%20decisions%20using%20judgement\,%20experience\,%20and%20available%20data.
UID:69ecde43e947c
SEQUENCE:0
DTSTAMP:20260425T153115Z
END:VEVENT
END:VCALENDAR
