BEGIN:VCALENDAR
VERSION:2.0
PRODID:Marketingcollege.com
METHOD:REQUEST
BEGIN:VEVENT
DTSTART:20260918T110000Z
DTEND:20260918T120000Z
SUMMARY:Handling Pressure and Maintaining Performance Marketing roles can be fast-paced and demanding. 
LOCATION:Online
DESCRIPTION:Career progression requires more than technical skills. This webinar helps marketing executives understand how to develop capability\, visibility\, and professional confidence to take the next step in their career. \nhttps://www.marketingcollege.com/events/This%20webinar%20focuses%20on%20practical%20ways%20to%20maintain%20performance%20and%20consistency%20when%20under%20pressure.
URL;VALUE=URI:https://www.marketingcollege.com/events/This%20webinar%20focuses%20on%20practical%20ways%20to%20maintain%20performance%20and%20consistency%20when%20under%20pressure.
UID:69ed06c9ae8c0
SEQUENCE:0
DTSTAMP:20260425T182409Z
END:VEVENT
END:VCALENDAR
