BEGIN:VCALENDAR
VERSION:2.0
PRODID:Marketingcollege.com
METHOD:REQUEST
BEGIN:VEVENT
DTSTART:20260918T120000Z
DTEND:20260918T123000Z
SUMMARY:Staying Positive When Work Feels Challenging All apprentices experience difficult periods
LOCATION:Online
DESCRIPTION:Supportive guidance on prioritisation and workload management. Particularly useful during peak marketing activity.\nhttps://www.marketingcollege.com/events/This%20session%20offers%20practical%20ways%20to%20stay%20constructive%20and%20maintain%20progress
URL;VALUE=URI:https://www.marketingcollege.com/events/This%20session%20offers%20practical%20ways%20to%20stay%20constructive%20and%20maintain%20progress
UID:69ed08c2050b3
SEQUENCE:0
DTSTAMP:20260425T183234Z
END:VEVENT
END:VCALENDAR
