BEGIN:VCALENDAR
VERSION:2.0
PRODID:Marketingcollege.com
METHOD:REQUEST
BEGIN:VEVENT
DTSTART:20260821T120000Z
DTEND:20260821T123000Z
SUMMARY:Dealing with Uncertainty in Marketing Tasks Not every task comes with clear instructions.
LOCATION:Online
DESCRIPTION:Supportive guidance on prioritisation and workload management. Particularly useful during peak marketing activity.\nhttps://www.marketingcollege.com/events/This%20session%20helps%20apprentices%20move%20forward%20confidently%20when%20direction%20is%20limited.
URL;VALUE=URI:https://www.marketingcollege.com/events/This%20session%20helps%20apprentices%20move%20forward%20confidently%20when%20direction%20is%20limited.
UID:69eccbc6405df
SEQUENCE:0
DTSTAMP:20260425T141222Z
END:VEVENT
END:VCALENDAR
