BEGIN:VCALENDAR
VERSION:2.0
PRODID:Marketingcollege.com
METHOD:REQUEST
BEGIN:VEVENT
DTSTART:20260724T120000Z
DTEND:20260724T123000Z
SUMMARY:Asking Better Questions at Work Strong questions lead to better outcomes
LOCATION:Online
DESCRIPTION:Supportive guidance on prioritisation and workload management. Particularly useful during peak marketing activity.\nhttps://www.marketingcollege.com/events/This%20session%20helps%20apprentices%20improve%20how%20they%20clarify%20tasks,%20challenge%20assumptions,%20and%20learn%20faster.
URL;VALUE=URI:https://www.marketingcollege.com/events/This%20session%20helps%20apprentices%20improve%20how%20they%20clarify%20tasks\,%20challenge%20assumptions\,%20and%20learn%20faster.
UID:69ecb8a07441b
SEQUENCE:0
DTSTAMP:20260425T125040Z
END:VEVENT
END:VCALENDAR
