BEGIN:VCALENDAR
VERSION:2.0
PRODID:Marketingcollege.com
METHOD:REQUEST
BEGIN:VEVENT
DTSTART:20260904T120000Z
DTEND:20260904T123000Z
SUMMARY:Avoiding Procrastination in Work and Study Delaying tasks creates unnecessary pressure.
LOCATION:Online
DESCRIPTION:Supportive guidance on prioritisation and workload management. Particularly useful during peak marketing activity.\nhttps://www.marketingcollege.com/events/This%20session%20focuses%20on%20simple%20techniques%20to%20improve%20focus%20and%20get%20started%20more%20effectively.
URL;VALUE=URI:https://www.marketingcollege.com/events/This%20session%20focuses%20on%20simple%20techniques%20to%20improve%20focus%20and%20get%20started%20more%20effectively.
UID:69ecf2b50b6d7
SEQUENCE:0
DTSTAMP:20260425T165829Z
END:VEVENT
END:VCALENDAR
