BEGIN:VCALENDAR
VERSION:2.0
PRODID:Marketingcollege.com
METHOD:REQUEST
BEGIN:VEVENT
DTSTART:20260904T110000Z
DTEND:20260904T120000Z
SUMMARY:Brand Positioning and Differentiation in Competitive Markets Standing out in competitive markets requires clarity and focus. 
LOCATION:Online
DESCRIPTION:Career progression requires more than technical skills. This webinar helps marketing executives understand how to develop capability\, visibility\, and professional confidence to take the next step in their career. \nhttps://www.marketingcollege.com/events/This%20session%20explores%20how%20to%20define%20and%20communicate%20a%20strong%20brand%20position%20that%20resonates%20with%20the%20right%20audience.
URL;VALUE=URI:https://www.marketingcollege.com/events/This%20session%20explores%20how%20to%20define%20and%20communicate%20a%20strong%20brand%20position%20that%20resonates%20with%20the%20right%20audience.
UID:69ecf2ba82509
SEQUENCE:0
DTSTAMP:20260425T165834Z
END:VEVENT
END:VCALENDAR
