BEGIN:VCALENDAR
VERSION:2.0
PRODID:Marketingcollege.com
METHOD:REQUEST
BEGIN:VEVENT
DTSTART:20260807T110000Z
DTEND:20260807T120000Z
SUMMARY:Content Strategy and Planning Across Channels Content is most effective when it is planned with purpose and consistency. 
LOCATION:Online
DESCRIPTION:Career progression requires more than technical skills. This webinar helps marketing executives understand how to develop capability\, visibility\, and professional confidence to take the next step in their career. \nhttps://www.marketingcollege.com/events/This%20session%20explores%20how%20to%20create%20and%20manage%20content%20across%20multiple%20channels%20to%20support%20wider%20marketing%20objectives.
URL;VALUE=URI:https://www.marketingcollege.com/events/This%20session%20explores%20how%20to%20create%20and%20manage%20content%20across%20multiple%20channels%20to%20support%20wider%20marketing%20objectives.
UID:69eccb919a12e
SEQUENCE:0
DTSTAMP:20260425T141129Z
END:VEVENT
END:VCALENDAR
