BEGIN:VCALENDAR
VERSION:2.0
PRODID:Marketingcollege.com
METHOD:REQUEST
BEGIN:VEVENT
DTSTART:20260828T120000Z
DTEND:20260828T123000Z
SUMMARY:Structuring Marketing Presentations That Make Sense Good ideas need clear structure
LOCATION:Online
DESCRIPTION:Supportive guidance on prioritisation and workload management. Particularly useful during peak marketing activity.\nhttps://www.marketingcollege.com/events/This%20drop-in%20shows%20how%20to%20organise%20presentations%20so%20they%20are%20easy%20to%20follow%20and%20credible.
URL;VALUE=URI:https://www.marketingcollege.com/events/This%20drop-in%20shows%20how%20to%20organise%20presentations%20so%20they%20are%20easy%20to%20follow%20and%20credible.
UID:69ece0f7641f9
SEQUENCE:0
DTSTAMP:20260425T154247Z
END:VEVENT
END:VCALENDAR
