BEGIN:VCALENDAR
VERSION:2.0
PRODID:Marketingcollege.com
METHOD:REQUEST
BEGIN:VEVENT
DTSTART:20260717T120000Z
DTEND:20260717T123000Z
SUMMARY:Writing Clear Emails and Internal Communications Clear communication improves efficiency and professionalism
LOCATION:Online
DESCRIPTION:Supportive guidance on prioritisation and workload management. Particularly useful during peak marketing activity.\nhttps://www.marketingcollege.com/events/This%20drop-in%20focuses%20on%20writing%20concise,%20effective%20emails%20that%20get%20results
URL;VALUE=URI:https://www.marketingcollege.com/events/This%20drop-in%20focuses%20on%20writing%20concise\,%20effective%20emails%20that%20get%20results
UID:69eca31196776
SEQUENCE:0
DTSTAMP:20260425T111841Z
END:VEVENT
END:VCALENDAR
