BEGIN:VCALENDAR
VERSION:2.0
PRODID:Marketingcollege.com
METHOD:REQUEST
BEGIN:VEVENT
DTSTART:20260911T120000Z
DTEND:20260911T123000Z
SUMMARY:Understanding How Marketing Supports Sales Teams Marketing and sales alignment is critical
LOCATION:Online
DESCRIPTION:Supportive guidance on prioritisation and workload management. Particularly useful during peak marketing activity.\nhttps://www.marketingcollege.com/events/This%20drop-in%20explains%20how%20marketing%20activity%20contributes%20to%20revenue%20and%20customer%20conversion.
URL;VALUE=URI:https://www.marketingcollege.com/events/This%20drop-in%20explains%20how%20marketing%20activity%20contributes%20to%20revenue%20and%20customer%20conversion.
UID:69ecf24d44d85
SEQUENCE:0
DTSTAMP:20260425T165645Z
END:VEVENT
END:VCALENDAR
